BEGIN:VCALENDAR
VERSION:2.0
CALSCALE:GREGORIAN
PRODID:-//Diputació de Barcelona//DibaCMS//EN
BEGIN:VEVENT
UID:13485
DTSTAMP:20260424T114257
DTSTART:20191025T190000
DTEND:20191025T220000
SUMMARY:Cursa d'orientació nocturna jove
LOCATION:Ca l'Anglada 08504  Sant Julià de Vilatorta
METHOD:PUBLISH
X-WR-CALNAME:sjv.info@vilatorta.cat
X-WR-TIMEZONE:Europe/Madrid
DESCRIPTION:El divendres 25 d'octubre a les 7 de la tarda iniciarà la cursa d'orientació nocturna jove. Finalment, donem la possibilitat que hi participin també adults i famílies amb menors de 12 anys. L'activitat es desenvoluparà pel municipi de Sant Julià de Vilatorta, on a partir d'un mapa s'hauran de trobar les fites corresponents. L'activitat requereix inscripció prèvia a l'Ajuntament o al Punt Jove Tortí o bé al mateix dia abans d'iniciar les sortides. 

URI:https://www.vilatorta.cat/actualitat/agenda/13485-cursa-dorientacio-nocturna-jove.html
CLASS:PUBLIC
END:VEVENT
END:VCALENDAR
