BEGIN:VCALENDAR
VERSION:2.0
CALSCALE:GREGORIAN
PRODID:-//Diputació de Barcelona//DibaCMS//EN
BEGIN:VEVENT
UID:13490
DTSTAMP:20260420T142640
DTSTART:20191020T090000
DTEND:20191020T140000
SUMMARY:IV Oncocursa del Remei
LOCATION:Sortida des de les pistes d'atletisme de Vic 
METHOD:PUBLISH
X-WR-CALNAME:sjv.info@vilatorta.cat
X-WR-TIMEZONE:Europe/Madrid
DESCRIPTION:El diumenge 20 d'octubre a les 9 del matí es celebrarà la IV Oncocursa del Remei en benefici de l'associació Osona Contra el Càncer. 

URI:https://www.vilatorta.cat/actualitat/agenda/iv-oncocursa-del-remei.html
CLASS:PUBLIC
END:VEVENT
END:VCALENDAR
