BEGIN:VCALENDAR
VERSION:2.0
CALSCALE:GREGORIAN
PRODID:-//Diputació de Barcelona//DibaCMS//EN
BEGIN:VEVENT
UID:13498
DTSTAMP:20260420T141950
DTSTART:20191020T083000
DTEND:20191020T130000
SUMMARY:Caminada dels guerrers
LOCATION:A la plaça de l'Ajuntament de Sant Martí de Centelles 
METHOD:PUBLISH
X-WR-CALNAME:sjv.info@vilatorta.cat
X-WR-TIMEZONE:Europe/Madrid
DESCRIPTION:El diumenge 20 d'octubre a 2/4 de 9 del matí a la plaça de l'Ajuntament de Sant Martí de Centelles tindrà lloc la caminada dels guerrers.

URI:https://www.vilatorta.cat/actualitat/agenda/caminada-dels-guerrers.html
CLASS:PUBLIC
END:VEVENT
END:VCALENDAR
