BEGIN:VCALENDAR
VERSION:2.0
CALSCALE:GREGORIAN
PRODID:-//Diputació de Barcelona//DibaCMS//EN
BEGIN:VEVENT
UID:13502
DTSTAMP:20260420T125320
DTSTART:20191025T210000
DTEND:20191025T230000
SUMMARY:12a Caminada NEGRANIT
LOCATION:plaça Major de Roda de Ter 
METHOD:PUBLISH
X-WR-CALNAME:sjv.info@vilatorta.cat
X-WR-TIMEZONE:Europe/Madrid
DESCRIPTION:El dissabte 26 d'octubre a les 9 del vespre a la plaça Major de Roda de Ter tindrà lloc la 12a caminada NEGRANIT, una caminada solidària contra el càncer. 

URI:https://www.vilatorta.cat/actualitat/agenda/12a-caminada-negranit.html
CLASS:PUBLIC
END:VEVENT
END:VCALENDAR
