BEGIN:VCALENDAR
VERSION:2.0
CALSCALE:GREGORIAN
PRODID:-//Diputació de Barcelona//DibaCMS//EN
BEGIN:VEVENT
UID:13503
DTSTAMP:20260420T141719
DTSTART:20191020T120000
DTEND:20191020T140000
SUMMARY:Viu el parc
LOCATION:Centre Cívic de Tavèrnoles 
METHOD:PUBLISH
X-WR-CALNAME:sjv.info@vilatorta.cat
X-WR-TIMEZONE:Europe/Madrid
DESCRIPTION:En el marc del programa Viu el Parc, el diumenge 20 d'octubre a les 12 del migdia al Centre Cívic de Tavèrnoles tindrà lloc "La Joglaressa", un taller d'instruments antics. 

URI:https://www.vilatorta.cat/actualitat/agenda/13503-viu-el-parc.html
CLASS:PUBLIC
END:VEVENT
END:VCALENDAR
