BEGIN:VCALENDAR
VERSION:2.0
CALSCALE:GREGORIAN
PRODID:-//Diputació de Barcelona//DibaCMS//EN
BEGIN:VEVENT
UID:13505
DTSTAMP:20260420T142819
DTSTART:20191103T190000
DTEND:20191103T220000
SUMMARY:Viu el parc
LOCATION:Centre Cívic de Tavèrnoles 
METHOD:PUBLISH
X-WR-CALNAME:sjv.info@vilatorta.cat
X-WR-TIMEZONE:Europe/Madrid
DESCRIPTION:En el marc del programa Viu el Parc, el diumenge 3 de novembre a partir de les 7 de la tarda es celebrarà la castanyada al Centre Cívic de Tavèrnoles. Seguidament, tindrà lloc l'actuació de Cèltic Groove, amb música Celta. 

URI:https://www.vilatorta.cat/actualitat/agenda/13505-viu-el-parc.html
CLASS:PUBLIC
END:VEVENT
END:VCALENDAR
