BEGIN:VCALENDAR
VERSION:2.0
CALSCALE:GREGORIAN
PRODID:-//Diputació de Barcelona//DibaCMS//EN
BEGIN:VEVENT
UID:13507
DTSTAMP:20260420T125209
DTSTART:20191103T183000
DTEND:20191103T200000
SUMMARY:Viu el parc
LOCATION:Espai polivalent de Vilanova de Sau 
METHOD:PUBLISH
X-WR-CALNAME:sjv.info@vilatorta.cat
X-WR-TIMEZONE:Europe/Madrid
DESCRIPTION:En el marc del programa Viu el Parc, el diumenge 3 de novembre a 2/4 de 7 de la tarda a Vilanova de Sau podreu gaudir del concert "Dos x quatre", una agrupació coral a cappella amb un repertori molt variat de música antiga, clàssica, gòspel, swing i folklore popular català. 

URI:https://www.vilatorta.cat/actualitat/agenda/13507-viu-el-parc.html
CLASS:PUBLIC
END:VEVENT
END:VCALENDAR
