BEGIN:VCALENDAR
VERSION:2.0
CALSCALE:GREGORIAN
PRODID:-//Diputació de Barcelona//DibaCMS//EN
BEGIN:VEVENT
UID:13514
DTSTAMP:20260424T114736
DTSTART:20191107T180000
DTEND:20191107T200000
SUMMARY:Taller "DESMUNTEM EL MASCLISME!"
LOCATION:Plaça de l'U d'octubre, núm. 2 08504 Sant Julià de Vilatorta
METHOD:PUBLISH
X-WR-CALNAME:sjv.info@vilatorta.cat
X-WR-TIMEZONE:Europe/Madrid
DESCRIPTION:En el marc del dia 25N, dia internacional per a l'eliminació de la violència envers les dones, el dia 7 de novembre a les 6 de la tarda a l'Aula de Cultura es portarà a terme el taller "DESMUNTEM EL MASCLISME!" a càrrec de Neus Folguera, psicòloga experta en violències masclistes. 

URI:https://www.vilatorta.cat/actualitat/agenda/taller-desmuntem-el-masclisme.html
CLASS:PUBLIC
END:VEVENT
END:VCALENDAR
