BEGIN:VCALENDAR
VERSION:2.0
CALSCALE:GREGORIAN
PRODID:-//Diputació de Barcelona//DibaCMS//EN
BEGIN:VEVENT
UID:13526
DTSTAMP:20260420T144119
DTSTART:20191027T100000
DTEND:20191027T120000
SUMMARY:Descobrim els bolets de l'espai natural
LOCATION:Ajuntament de Tavèrnoles (C/ de l'Església, 1) 
METHOD:PUBLISH
X-WR-CALNAME:sjv.info@vilatorta.cat
X-WR-TIMEZONE:Europe/Madrid
DESCRIPTION:El diumenge 27 d'octubre a les 10 del matí a l'Ajuntament de Tavèrnoles, tindrà lloc l'activitat "Descobrim els bolets de l'espai natural". 

URI:https://www.vilatorta.cat/actualitat/agenda/descobrim-els-bolets-de-lespai-natural.html
CLASS:PUBLIC
END:VEVENT
END:VCALENDAR
