BEGIN:VCALENDAR
VERSION:2.0
CALSCALE:GREGORIAN
PRODID:-//Diputació de Barcelona//DibaCMS//EN
BEGIN:VEVENT
UID:13527
DTSTAMP:20260420T141813
DTSTART:20191024T000000
DTEND:20191024T000000
SUMMARY:Campionat de Catalunya de gossos de treball i utilitat de la RSCE
LOCATION:Carretera de Vilalleons 
METHOD:PUBLISH
X-WR-CALNAME:sjv.info@vilatorta.cat
X-WR-TIMEZONE:Europe/Madrid
DESCRIPTION:Aquest cap de setmana 26 i 27 d'octubre el municipi de Sant Julià de Vilatorta acollirà el campionat de Catalunya de gossos de treball i utilitat de la Real Sociedad Canina d'Espanya. Les proves de rastreig es realitzaràn als camps del Bruguer, a la carretera de Vilalleons. Les proves d'obediència, realitzaràn a les instalacions del club d'ensinistrament Froikan al costat del Castell de Santa Margarita.

 

URI:https://www.vilatorta.cat/actualitat/agenda/13527-campionat-de-catalunya-de-gossos-de-treball-i-utilitat-de-la-rsce.html
CLASS:PUBLIC
END:VEVENT
END:VCALENDAR
