BEGIN:VCALENDAR
VERSION:2.0
CALSCALE:GREGORIAN
PRODID:-//Diputació de Barcelona//DibaCMS//EN
BEGIN:VEVENT
UID:13533
DTSTAMP:20260420T142402
DTSTART:20191102T230000
DTEND:20191103T040000
SUMMARY:Festa de la castanya
LOCATION:Avinguda de Sant Llorenç, 80 08504 Sant Julià de Vilatorta
METHOD:PUBLISH
X-WR-CALNAME:sjv.info@vilatorta.cat
X-WR-TIMEZONE:Europe/Madrid
DESCRIPTION:El dissabte 2 de novembre vine a celebrar la castanyada a la Festa de la Castanya organitzada pel Consell de Joventut Tupinots al pavelló municipal de Sant Julià a partir de les 11 de la nit. 

URI:https://www.vilatorta.cat/actualitat/agenda/13533-festa-de-la-castanya.html
CLASS:PUBLIC
END:VEVENT
END:VCALENDAR
