BEGIN:VCALENDAR
VERSION:2.0
CALSCALE:GREGORIAN
PRODID:-//Diputació de Barcelona//DibaCMS//EN
BEGIN:VEVENT
UID:13538
DTSTAMP:20260420T143338
DTSTART:20191103T110000
DTEND:20191103T130000
SUMMARY:Partits de futbol del diumenge 3 de novembre
LOCATION:Avinguda de Sant Llorenç, 80 08504 Sant Julià de Vilatorta
METHOD:PUBLISH
X-WR-CALNAME:sjv.info@vilatorta.cat
X-WR-TIMEZONE:Europe/Madrid
DESCRIPTION:Podeu consultar els partits de futbol del cap de setmana al cartell adjunt.

URI:https://www.vilatorta.cat/actualitat/agenda/partits-de-futbol-del-diumenge-3-de-novembre.html
CLASS:PUBLIC
END:VEVENT
END:VCALENDAR
