BEGIN:VCALENDAR
VERSION:2.0
CALSCALE:GREGORIAN
PRODID:-//Diputació de Barcelona//DibaCMS//EN
BEGIN:VEVENT
UID:13543
DTSTAMP:20260420T100135
DTSTART:20191115T190000
DTEND:20191115T210000
SUMMARY:Conferència: "Els recursos d'aigua a Sant Julià de Vilatorta. La singularitat i importància de les Set Fonts"
LOCATION:Plaça de l'U d'octubre, núm. 2 08504 Sant Julià de Vilatorta
METHOD:PUBLISH
X-WR-CALNAME:sjv.info@vilatorta.cat
X-WR-TIMEZONE:Europe/Madrid
DESCRIPTION:D'on ve l'aigua de les Set Fonts? La resposta, aquest divendres perquè dins del programa de la Setmana de la Ciència, el divendres 15 de novembre a les 7 de la tarda a l'Aula de Cultura tindrà lloc la conferència "Els recursos d'aigua a Sant Julià de Vilatorta. La singularitat i importància de les Set Fonts". 

URI:https://www.vilatorta.cat/actualitat/agenda/conferencia-els-recursos-daigua-a-sant-julia-de-vilatorta-la-singularitat-i-importancia-de-les-set-fonts.html
CLASS:PUBLIC
END:VEVENT
END:VCALENDAR
