BEGIN:VCALENDAR
VERSION:2.0
CALSCALE:GREGORIAN
PRODID:-//Diputació de Barcelona//DibaCMS//EN
BEGIN:VEVENT
UID:13544
DTSTAMP:20260424T132704
DTSTART:20191116T110000
DTEND:20191116T130000
SUMMARY:Taller de fabricació d'un fonògraf
LOCATION:Avinguda de Sant Llorenç, 80 08504 Sant Julià de Vilatorta
METHOD:PUBLISH
X-WR-CALNAME:sjv.info@vilatorta.cat
X-WR-TIMEZONE:Europe/Madrid
DESCRIPTION:Dins del programa de la Setmana de la Ciència i el programa Viu el Parc el dissabte dia 16 de novembre a les 11 del matí a la sala de conferències del pavelló tindrà lloc un taller de fabricació d'un fonògraf. 

URI:https://www.vilatorta.cat/actualitat/agenda/taller-de-fabricacio-dun-fonograf.html
CLASS:PUBLIC
END:VEVENT
END:VCALENDAR
