BEGIN:VCALENDAR
VERSION:2.0
CALSCALE:GREGORIAN
PRODID:-//Diputació de Barcelona//DibaCMS//EN
BEGIN:VEVENT
UID:13546
DTSTAMP:20260424T114139
DTSTART:20191116T190000
DTEND:20191116T200000
SUMMARY:Conferència "El forn ceràmic com a reactor químic"
LOCATION:Ca l'Anglada 08504  Sant Julià de Vilatorta
METHOD:PUBLISH
X-WR-CALNAME:sjv.info@vilatorta.cat
X-WR-TIMEZONE:Europe/Madrid
DESCRIPTION:En el marc de la Setmana de la Ciència, el dissabte 16 de novembre a les 7 de la tarda a Ca l'Anglada tindrà lloc la conferència "El forn ceràmic com a reactor químic", a càrrec del mestre ceramista Pep Madrenas. 

URI:https://www.vilatorta.cat/actualitat/agenda/conferencia-el-forn-ceramic-com-a-reactor-quimic.html
CLASS:PUBLIC
END:VEVENT
END:VCALENDAR
