BEGIN:VCALENDAR
VERSION:2.0
CALSCALE:GREGORIAN
PRODID:-//Diputació de Barcelona//DibaCMS//EN
BEGIN:VEVENT
UID:13592
DTSTAMP:20260424T102052
DTSTART:20191204T160000
DTEND:20191204T190000
SUMMARY:Presentació del llibre de Mn. Jordi Castellet i Sala: “Va ser català l’apòstol Sant Pau?”
LOCATION:Plaça de l'U d'octubre, núm. 2 08504 Sant Julià de Vilatorta
METHOD:PUBLISH
X-WR-CALNAME:sjv.info@vilatorta.cat
X-WR-TIMEZONE:Europe/Madrid
DESCRIPTION:El dimecres dia 4 de desembre a les 4 de la tarda, a l’Aula de Cultura, tindrà lloc la presentació i posada en comú del llibre: “Va ser català l’apòstol Sant Pau?” a càrrec de Mn. Jordi Castellet i Sala.

URI:https://www.vilatorta.cat/actualitat/agenda/13592-presentacio-del-llibre-de-mn-jordi-castellet-i-sala-va-ser-catala-lapostol-sant-pau.html
CLASS:PUBLIC
END:VEVENT
END:VCALENDAR
