BEGIN:VCALENDAR
VERSION:2.0
CALSCALE:GREGORIAN
PRODID:-//Diputació de Barcelona//DibaCMS//EN
BEGIN:VEVENT
UID:13711
DTSTAMP:20260420T143832
DTSTART:20200206T173000
DTEND:20200206T190000
SUMMARY:Presentació d'un banc de plàstic a la zona esportiva
LOCATION:Avinguda de Sant Llorenç, 80 08504 Sant Julià de Vilatorta
METHOD:PUBLISH
X-WR-CALNAME:sjv.info@vilatorta.cat
X-WR-TIMEZONE:Europe/Madrid
DESCRIPTION:El dijous 6 de febrer a 2/4 de 6 de la tarda a la zona esportiva tindrà lloc la presentació d'un banc per seure fet a partir d’unes 20.000 ampolles de plàstic PET recollides durant el 35è Torneig BBVA de bàsquet, disputat els dies 6, 7 i 8 de setembre de 2019. Aquestes ampolles fan un pes de 500 Kg.

URI:https://www.vilatorta.cat/actualitat/agenda/presentacio-dun-banc-de-plastic-a-la-zona-esportiva.html
CLASS:PUBLIC
END:VEVENT
END:VCALENDAR
