BEGIN:VCALENDAR
VERSION:2.0
CALSCALE:GREGORIAN
PRODID:-//Diputació de Barcelona//DibaCMS//EN
BEGIN:VEVENT
UID:13890
DTSTAMP:20260420T172744
DTSTART:20200425T100000
DTEND:20200425T170000
SUMMARY:Aquest 25 d'abril es farà una Gran Fideuada Popular i Confinada a Osona
LOCATION:
METHOD:PUBLISH
X-WR-CALNAME:sjv.info@vilatorta.cat
X-WR-TIMEZONE:Europe/Madrid
DESCRIPTION:Osona tindrà aquest 25 d’abril una Gran Fideuada Popular i Confinada per recollir fons pel Consorci Hospitalari de Vic i l’Hospital Universitari de la Santa Creu de Vic. Podeu encarregar-la per telèfon  al 93 851 55 75 o via internet: www.gra.cat/covid-19.

En el moment en què s’encarregui s’haurà de pagar a través de compte corrent i l’import anirà per el consorci hospitalari de Vic. L’import és de mínim 6€ per ració.

URI:https://www.vilatorta.cat/temes/turisme-/aquest-25-dabril-es-fara-una-gran-fideuada-popular-i-confinada-a-osona.html
CLASS:PUBLIC
END:VEVENT
END:VCALENDAR
