BEGIN:VCALENDAR
VERSION:2.0
CALSCALE:GREGORIAN
PRODID:-//Diputació de Barcelona//DibaCMS//EN
BEGIN:VEVENT
UID:13997
DTSTAMP:20260420T190757
DTSTART:20200623T193000
DTEND:20200623T210000
SUMMARY:Arriba la Flama del Canigó en format reduït
LOCATION:
METHOD:PUBLISH
X-WR-CALNAME:sjv.info@vilatorta.cat
X-WR-TIMEZONE:Europe/Madrid
DESCRIPTION:L’excepcionalitat del moment farà que la Flama del Canigó arribi més aviat que mai, ja que les circumstàncies actuals han obligat a escurçar algunes de les rutes de repartiment i això fa que l’encesa de la foguera es porti a terme en un horari menys habitual. D’aquesta manera la flama arribarà a Vilalleons a 2/4 de 8 de la tarda on seguidament s’encendrà la tradicional foguera de Sant Joan, aquest any amb dimensions reduïdes. Posteriorment, a les 8 del vespre la flama es desplaçarà a Sant Julià on s’encendrà la foguera a l’esplanada de darrera del Pavelló amb l’objectiu de guanyar espai i facilitar el compliment de les distancies de seguretat. 

URI:https://www.vilatorta.cat/temes/turisme-/13997-arriba-la-flama-del-canigo-en-format-reduit.html
CLASS:PUBLIC
END:VEVENT
END:VCALENDAR
