BEGIN:VCALENDAR
VERSION:2.0
CALSCALE:GREGORIAN
PRODID:-//Diputació de Barcelona//DibaCMS//EN
BEGIN:VEVENT
UID:14022
DTSTAMP:20260420T172056
DTSTART:20200704T170000
DTEND:20200704T190000
SUMMARY:Festival d'Estiu de Sant Pere de Casserres
LOCATION:Les Masies de Roda 
METHOD:PUBLISH
X-WR-CALNAME:sjv.info@vilatorta.cat
X-WR-TIMEZONE:Europe/Madrid
DESCRIPTION:Actuació Els Vespres Malgastats - Sarau Malgastat a les Masies de Roda dins del programa de Festival d'Estiu de Sant Pere de Casserres. Les entrades es poden comprar a www.codetickets.com. L'aforament és limitat. 

Podeu consultar els actes al cartell adjunt.

URI:https://www.vilatorta.cat/actualitat/agenda/14022-festival-destiu-de-sant-pere-de-casserres.html
CLASS:PUBLIC
END:VEVENT
END:VCALENDAR
