BEGIN:VCALENDAR
VERSION:2.0
CALSCALE:GREGORIAN
PRODID:-//Diputació de Barcelona//DibaCMS//EN
BEGIN:VEVENT
UID:14304
DTSTAMP:20260421T084201
DTSTART:20220101T170000
DTEND:20220101T200000
SUMMARY:La Bústia dels Desitjos
LOCATION:Àrea verda de la zona esportiva 
METHOD:PUBLISH
X-WR-CALNAME:sjv.info@vilatorta.cat
X-WR-TIMEZONE:Europe/Madrid
DESCRIPTION:El divendres 1 de gener de 2021, de les 5 de la tarda a les 8 del vespre, a l'àrea verda de la zona esportiva, els patges Reials instal·laran per segon any la Bústia dels Desitjos a Sant Julià perquè la mainada hi pugui tirar la carta als Reis de l'Orient.

URI:https://www.vilatorta.cat/temes/turisme-/la-bustia-dels-desitjos.html
CLASS:PUBLIC
END:VEVENT
END:VCALENDAR
