BEGIN:VCALENDAR
VERSION:2.0
CALSCALE:GREGORIAN
PRODID:-//Diputació de Barcelona//DibaCMS//EN
BEGIN:VEVENT
UID:14326
DTSTAMP:20260426T031348
DTSTART:20260217T080000
DTEND:20260217T130000
SUMMARY:La ITV mòbil serà a Sant Julià el dimarts 17 de febrer
LOCATION:Polígon industrial La Quintana 
METHOD:PUBLISH
X-WR-CALNAME:sjv.info@vilatorta.cat
X-WR-TIMEZONE:Europe/Madrid
DESCRIPTION:Recordeu que cal demanar cita prèvia perquè la unitat mòbil faci la revisió ITV als vehicles agrícoles (tractors i remolcs) i la inspecció periòdica obligatòria als ciclomotors de 49 cm3 al polígon industrial de Sant Julià de Vilatorta el 17 de febrer de 2026, de les 8 a les 13 hores

URI:https://www.vilatorta.cat/actualitat/agenda/14326-la-itv-mobil-sera-a-sant-julia-el-dimarts-17-de-febrer.html
CLASS:PUBLIC
END:VEVENT
END:VCALENDAR
