BEGIN:VCALENDAR
VERSION:2.0
CALSCALE:GREGORIAN
PRODID:-//Diputació de Barcelona//DibaCMS//EN
BEGIN:VEVENT
UID:14355
DTSTAMP:20260421T015044
DTSTART:20210617T100000
DTEND:20210630T130000
SUMMARY:Visita l'exposició Vilatorta i la Sardana
LOCATION:Ca l'Anglada
plaça Major, 7 
METHOD:PUBLISH
X-WR-CALNAME:sjv.info@vilatorta.cat
X-WR-TIMEZONE:Europe/Madrid
DESCRIPTION:Visita l'exposició Vilatorta i la Sardana, en commemoració dels 50 anys de l'Agrupació Sardanista de Sant Julià de Vilatorta. L'exposició romandrà oberta tots els dies de 10 a 1 del migdia, excepte els dijous.

URI:https://www.vilatorta.cat/actualitat/agenda/visita-lexposicio-vilatorta-i-la-sardana.html
CLASS:PUBLIC
END:VEVENT
END:VCALENDAR
