BEGIN:VCALENDAR
VERSION:2.0
CALSCALE:GREGORIAN
PRODID:-//Diputació de Barcelona//DibaCMS//EN
BEGIN:VEVENT
UID:14409
DTSTAMP:20260421T065630
DTSTART:20211023T080000
DTEND:20211024T140000
SUMMARY:24è Ral·li Esprint Sant Julià
LOCATION:
METHOD:PUBLISH
X-WR-CALNAME:sjv.info@vilatorta.cat
X-WR-TIMEZONE:Europe/Madrid
DESCRIPTION:El dissabte 23 d’octubre torna el Ral·li Esprint Sant Julià, que enguany arriba a la 24a edició. La prova torna amb un munt de novetats.

URI:https://www.vilatorta.cat/actualitat/agenda/24e-ralli-esprint-sant-julia.html
CLASS:PUBLIC
END:VEVENT
END:VCALENDAR
