BEGIN:VCALENDAR
VERSION:2.0
CALSCALE:GREGORIAN
PRODID:-//Diputació de Barcelona//DibaCMS//EN
BEGIN:VEVENT
UID:14423
DTSTAMP:20260421T014141
DTSTART:20210323T173000
DTEND:20210323T183000
SUMMARY:Presentació de l'acte les Caramelles en So de Cobla i la Casa de les Caramelles
LOCATION:Plaça de l'U d'octubre, núm. 1 08504 Sant Julià de Vilatorta
METHOD:PUBLISH
X-WR-CALNAME:sjv.info@vilatorta.cat
X-WR-TIMEZONE:Europe/Madrid
DESCRIPTION:El proper dimarts 23 de març, a les 6 de la tarda, a la Sala de Plens de l’Ajuntament, s’anunciaran els actes de celebració de la Pasqua Florida adaptats a la situació derivada de la pandèmia. A continuació es parlarà del projecte de la Casa de les Caramelles i tot seguit es farà la presentació d’aquest projecte oberta al públic i retransmesa en directe pel canal de YouTube de l’Ajuntament de Sant Julià de Vilatorta.

URI:https://www.vilatorta.cat/actualitat/agenda/presentacio-de-lacte-les-caramelles-en-so-de-cobla-i-la-casa-de-les-caramelles.html
CLASS:PUBLIC
END:VEVENT
END:VCALENDAR
