BEGIN:VCALENDAR
VERSION:2.0
CALSCALE:GREGORIAN
PRODID:-//Diputació de Barcelona//DibaCMS//EN
BEGIN:VEVENT
UID:14544
DTSTAMP:20260421T013308
DTSTART:20210529T160000
DTEND:20210529T163000
SUMMARY:Inauguració del mural ceràmic a la sala de plens de l'Ajuntament
LOCATION:Plaça de l'U d'octubre, núm. 1 08504 Sant Julià de Vilatorta
METHOD:PUBLISH
X-WR-CALNAME:sjv.info@vilatorta.cat
X-WR-TIMEZONE:Europe/Madrid
DESCRIPTION:El dissabte , a les 4 de la tarda, a la sala de plens de l'Ajuntament es farà la inauguració del mural ceràmic que va guanyar el Concurs de Ceràmica i Terrissa “Memorial a Joan Capdevila” 2019, un mural dissenyat i realitzat per la ceramista Sol Roca i titulat “Diàleg”.

URI:https://www.vilatorta.cat/actualitat/agenda/inauguracio-del-mural-ceramic-a-la-sala-de-plens-de-lajuntament.html
CLASS:PUBLIC
END:VEVENT
END:VCALENDAR
