BEGIN:VCALENDAR
VERSION:2.0
CALSCALE:GREGORIAN
PRODID:-//Diputació de Barcelona//DibaCMS//EN
BEGIN:VEVENT
UID:14642
DTSTAMP:20260421T031301
DTSTART:20210715T180000
DTEND:20210715T200000
SUMMARY:Taller: Demana cita al CAP i accedeix a La Meva Salut 
LOCATION:Plaça de l'U d'octubre, núm. 2 08504 Sant Julià de Vilatorta
METHOD:PUBLISH
X-WR-CALNAME:sjv.info@vilatorta.cat
X-WR-TIMEZONE:Europe/Madrid
DESCRIPTION:El dijous 15 de juliol, de les 6 a les 8 del vespre, a l'Aula de Cultura, la Gerència del Servei de Biblioteques organitza una activitat per majors de 65 anys per aprendre a utilitzar eines de salut digital i hàbits saludables, com cercar informació o demanar hora al metge, gestionar la nostra informació a través dels serveis oferts per l’administració, i la cerca i instal·lació d’apps sobre salut.

URI:https://www.vilatorta.cat/actualitat/agenda/taller-demana-cita-al-cap-i-accedeix-a-la-meva-salut-.html
CLASS:PUBLIC
END:VEVENT
END:VCALENDAR
