BEGIN:VCALENDAR
VERSION:2.0
CALSCALE:GREGORIAN
PRODID:-//Diputació de Barcelona//DibaCMS//EN
BEGIN:VEVENT
UID:14646
DTSTAMP:20260421T044652
DTSTART:20210815T113000
DTEND:20210815T123000
SUMMARY:Visita guiada al romànic i barroc de Santa Maria de Vilalleons
LOCATION:plaça de l'església de Vilalleons 
METHOD:PUBLISH
X-WR-CALNAME:sjv.info@vilatorta.cat
X-WR-TIMEZONE:Europe/Madrid
DESCRIPTION:Per celebrar els 75 anys de la unificació dels termes de Sant Julià de Vilatorta i Vilalleons hem organitzat una nova visita guiada que ens permetrà conèixer de ben a prop l’església romànica de Santa Maria de Vilalleons, les modificacions posteriors i el conjunt de retaules barrocs del segle XVII únics a la comarca, que es van salvar de la Guerra Civil.

URI:https://www.vilatorta.cat/actualitat/agenda/14646-visita-guiada-al-romanic-i-barroc-de-santa-maria-de-vilalleons.html
CLASS:PUBLIC
END:VEVENT
END:VCALENDAR
