BEGIN:VCALENDAR
VERSION:2.0
CALSCALE:GREGORIAN
PRODID:-//Diputació de Barcelona//DibaCMS//EN
BEGIN:VEVENT
UID:14689
DTSTAMP:20260421T044238
DTSTART:20210815T200000
DTEND:20210815T220000
SUMMARY:Cantada d'Havaneres a Vilalleons, CANVI D'HORA!
LOCATION:Plaça de l'Esglesia de Vilalleons 
METHOD:PUBLISH
X-WR-CALNAME:sjv.info@vilatorta.cat
X-WR-TIMEZONE:Europe/Madrid
DESCRIPTION:A les 8 de la tarda començarà la cantada d'havaneres amb el grup Havanerus de l'Esquirol. L'acte s'ha ajornat una hora en motiu de l'onada de calor. Us hi podeu apuntar a l'app Infovilatorta.

URI:https://www.vilatorta.cat/actualitat/agenda/cantada-dhavaneres-a-vilalleons-canvi-dhora.html
CLASS:PUBLIC
END:VEVENT
END:VCALENDAR
