BEGIN:VCALENDAR
VERSION:2.0
CALSCALE:GREGORIAN
PRODID:-//Diputació de Barcelona//DibaCMS//EN
BEGIN:VEVENT
UID:14869
DTSTAMP:20260421T071401
DTSTART:20211108T173000
DTEND:20211108T193000
SUMMARY:Taller de Cuina sense pares
LOCATION:C/ Dels Marquesos de Vilallonga,34 08504 Sant Julià de Vilatorta
METHOD:PUBLISH
X-WR-CALNAME:sjv.info@vilatorta.cat
X-WR-TIMEZONE:Europe/Madrid
DESCRIPTION:El proper dilluns 8 de novembre tindrà lloc el Taller de Cuina sense pares per a joves d'entre 13 i 18 anys. El taller es farà a l'Espai Activa't (al costat del Casal d'avis) de 2/4 de 6 a 2/4 de 8 del vespre. Es tracta d'un taller totalment gratuït organitzat des del Punt Jove Tortí. Cal fer la inscripció abans de l'1 de novembre.

URI:https://www.vilatorta.cat/actualitat/agenda/14869-taller-de-cuina-sense-pares.html
CLASS:PUBLIC
END:VEVENT
END:VCALENDAR
