BEGIN:VCALENDAR
VERSION:2.0
CALSCALE:GREGORIAN
PRODID:-//Diputació de Barcelona//DibaCMS//EN
BEGIN:VEVENT
UID:14882
DTSTAMP:20260421T071345
DTSTART:20211101T180000
DTEND:20211101T200000
SUMMARY:Castanyada popular
LOCATION:plaça de Catalunya 
METHOD:PUBLISH
X-WR-CALNAME:sjv.info@vilatorta.cat
X-WR-TIMEZONE:Europe/Madrid
DESCRIPTION:El dilluns 1 de novembre torna la castanyada popular a la plaça de Catalunya. A partir de les 6 de la tarda, vine a celebrar la castanyada amb bona companyia. Tu portes el sopar i nosaltres les castanyes.

URI:https://www.vilatorta.cat/actualitat/agenda/14882-castanyada-popular.html
CLASS:PUBLIC
END:VEVENT
END:VCALENDAR
