BEGIN:VCALENDAR
VERSION:2.0
CALSCALE:GREGORIAN
PRODID:-//Diputació de Barcelona//DibaCMS//EN
BEGIN:VEVENT
UID:14890
DTSTAMP:20260421T070711
DTSTART:20211031T233000
DTEND:20211101T050000
SUMMARY:Castanyada 2021 dels Tupinots
LOCATION:Avinguda de Sant Llorenç, 80 08504 Sant Julià de Vilatorta
METHOD:PUBLISH
X-WR-CALNAME:sjv.info@vilatorta.cat
X-WR-TIMEZONE:Europe/Madrid
DESCRIPTION: 

L’espera s’ha fet llarga…però els Tupinots tornem amb més força i més ganes que mai! Us esperem el diumenge 31 d’octubre, al pavelló municipal, per celebrar la castanyada tots plegats! De 23:30h a 5h amb la millor companyia i música de DJ Velasco! Esteu apunt?
 

URI:https://www.vilatorta.cat/actualitat/agenda/castanyada-2021-dels-tupinots.html
CLASS:PUBLIC
END:VEVENT
END:VCALENDAR
