BEGIN:VCALENDAR
VERSION:2.0
CALSCALE:GREGORIAN
PRODID:-//Diputació de Barcelona//DibaCMS//EN
BEGIN:VEVENT
UID:14896
DTSTAMP:20260421T070331
DTSTART:20211105T190000
DTEND:20211105T203000
SUMMARY:Apunta’t i vine a posar nom a la comunitat energètica de Sant Julià de Vilatorta i Vilalleons
LOCATION:Plaça de l'U d'octubre, núm. 2 08504 Sant Julià de Vilatorta
METHOD:PUBLISH
X-WR-CALNAME:sjv.info@vilatorta.cat
X-WR-TIMEZONE:Europe/Madrid
DESCRIPTION:T’agradaria ser part activa d’un nou model més eficient, sostenible i econòmic, unint-te a la Comunitat Energètica Local de Sant Julià de Vilatorta i Vilalleons? Per posar nom  a la  comunitat i fer els primers passos per la seva creació es farà una xerrada informativa aquest divendres 5 de novembre, a les 7 de tarda, a l’Aula de Cultura.

URI:https://www.vilatorta.cat/actualitat/agenda/apuntat-i-vine-a-posar-nom-a-la-comunitat-energetica-de-sant-julia-de-vilatorta-i-vilalleons.html
CLASS:PUBLIC
END:VEVENT
END:VCALENDAR
