BEGIN:VCALENDAR
VERSION:2.0
CALSCALE:GREGORIAN
PRODID:-//Diputació de Barcelona//DibaCMS//EN
BEGIN:VEVENT
UID:14921
DTSTAMP:20260421T112532
DTSTART:20220316T213000
DTEND:20220316T223000
SUMMARY:Ple extraordinari urgent demà dimecres 16 de març de 2022
LOCATION:Plaça de l'U d'octubre, núm. 1 08504 Sant Julià de Vilatorta
METHOD:PUBLISH
X-WR-CALNAME:sjv.info@vilatorta.cat
X-WR-TIMEZONE:Europe/Madrid
DESCRIPTION:Es convoca sessió extraordinària urgent de Ple de l’Ajuntament, demà dimecres 16 de març a 2/4 de 10 del vespre a la Sala de Plens. Es preveu aprovar la moció en contra del tancament del Col·legi el Roser i pel manteniment de l'oferta educativa plural de Sant Julià de Vilatorta i els pobles veïns. La sessió serà retransmesa pel canal de YouTube de l'Ajuntament en aquest enllaç

URI:https://www.vilatorta.cat/actualitat/agenda/ple-extraordinari-urgent-dema-dimecres-16-de-marc-de-2022.html
CLASS:PUBLIC
END:VEVENT
END:VCALENDAR
