BEGIN:VCALENDAR
VERSION:2.0
CALSCALE:GREGORIAN
PRODID:-//Diputació de Barcelona//DibaCMS//EN
BEGIN:VEVENT
UID:15015
DTSTAMP:20260421T114439
DTSTART:20220128T190000
DTEND:20220128T203000
SUMMARY:Xerrada: La importància dels espais agraris en la transició energètica
LOCATION:Plaça de l'U d'octubre, núm. 2 08504 Sant Julià de Vilatorta
METHOD:PUBLISH
X-WR-CALNAME:sjv.info@vilatorta.cat
X-WR-TIMEZONE:Europe/Madrid
DESCRIPTION:El divendres 28 de gener, e les 7 de la tarda, a l’Aula de Cultura, tindrà lloc la xerrada: “La importància dels espais agraris en la transició energètica". Acte organitzat per l'entitat "Per una Plana viva"

URI:https://www.vilatorta.cat/actualitat/agenda/15015-xerrada-la-importancia-dels-espais-agraris-en-la-transicio-energetica.html
CLASS:PUBLIC
END:VEVENT
END:VCALENDAR
