BEGIN:VCALENDAR
VERSION:2.0
CALSCALE:GREGORIAN
PRODID:-//Diputació de Barcelona//DibaCMS//EN
BEGIN:VEVENT
UID:15029
DTSTAMP:20260421T115054
DTSTART:20220220T173000
DTEND:20220220T190000
SUMMARY:Tardes al Saló Catalunya
LOCATION:Carrer del Compositor Ramon Victori, 4  08504 Sant Julià de Vilatorta
METHOD:PUBLISH
X-WR-CALNAME:sjv.info@vilatorta.cat
X-WR-TIMEZONE:Europe/Madrid
DESCRIPTION:Tornen les tardes de cinema al Saló Catalunya durant el mes de febrer. Aquest any amb alguns canvis que inclou, a més de pel·lícules, espectacles per a tots els públics. Les tardes al Saló es faran tots els diumenges de Febrer a partir de dos quarts de 6 de la tarda i el seu preu serà de 4 €. Aquest diumenge 20 de febrer s'emetrà la pel·lícula Encanto de Walt Disney.

URI:https://www.vilatorta.cat/actualitat/agenda/15029-tardes-al-salo-catalunya.html
CLASS:PUBLIC
END:VEVENT
END:VCALENDAR
