BEGIN:VCALENDAR
VERSION:2.0
CALSCALE:GREGORIAN
PRODID:-//Diputació de Barcelona//DibaCMS//EN
BEGIN:VEVENT
UID:15093
DTSTAMP:20260421T101245
DTSTART:20220305T100000
DTEND:20220305T130000
SUMMARY:L'AFA del Roser convoca a manifestar-se davant el Col·legi El Roser
LOCATION:
METHOD:PUBLISH
X-WR-CALNAME:sjv.info@vilatorta.cat
X-WR-TIMEZONE:Europe/Madrid
DESCRIPTION:L'Associació de Famílies d'Alumnes (AFA) del Col·legi El Roser ha cridat a tot el poble a manifestar-se davant el Col·legi El Roser aquest dissabte 5 de març a les 10 del matí. El Col·legi havia anunciat per aquest dissabte Jornada de Portes Obertes, i l'AFA ha volgut reconvertir la jornada en reivindicativa.

URI:https://www.vilatorta.cat/actualitat/agenda/lafa-del-roser-convoca-a-manifestar-se-davant-el-collegi-el-roser.html
CLASS:PUBLIC
END:VEVENT
END:VCALENDAR
