BEGIN:VCALENDAR
VERSION:2.0
CALSCALE:GREGORIAN
PRODID:-//Diputació de Barcelona//DibaCMS//EN
BEGIN:VEVENT
UID:15106
DTSTAMP:20260421T112302
DTSTART:20220310T190000
DTEND:20220310T210000
SUMMARY:Convocatòria del Consell Escolar Municipal Extraordinari
LOCATION:Plaça de l'U d'octubre, núm. 2 08504 Sant Julià de Vilatorta
METHOD:PUBLISH
X-WR-CALNAME:sjv.info@vilatorta.cat
X-WR-TIMEZONE:Europe/Madrid
DESCRIPTION:Dijous 10 de març de 2022, a les 7 de la tarda a l’Aula de Cultura de Sant Julià de Vilatorta, convocatòria extraordinària del Consell Municipal Escolar. La convocatòria va dirigida exclusivament  als que són membres del Consell Escolar. Es preveu aprovar el manifest: “Manifest en contra del tancament del Col·legi El Roser i pel manteniment de l’equilibri territorial en l’oferta educativa d’Osona Est”.

URI:https://www.vilatorta.cat/actualitat/agenda/convocatoria-del-consell-escolar-municipal-extraordinari.html
CLASS:PUBLIC
END:VEVENT
END:VCALENDAR
