BEGIN:VCALENDAR
VERSION:2.0
CALSCALE:GREGORIAN
PRODID:-//Diputació de Barcelona//DibaCMS//EN
BEGIN:VEVENT
UID:15128
DTSTAMP:20260421T114729
DTSTART:20220329T100000
DTEND:20220329T110000
SUMMARY:Sessió informativa sobre la convocatòria d’ajuts de subministraments energètics
LOCATION:Plaça de l'U d'octubre, núm. 2 08504 Sant Julià de Vilatorta
METHOD:PUBLISH
X-WR-CALNAME:sjv.info@vilatorta.cat
X-WR-TIMEZONE:Europe/Madrid
DESCRIPTION:Per tal de facilitar la tramitació a les persones amb pobresa energètica que ho necessitin, farem una sessió informativa el dimarts 29 de març  a les 10 h a l'Aula de Cultura. En cas de voler-hi assistir cal apuntar-se a través d'aquest formulari: https://forms.gle/Z7UFbMqukeJh89ur7

URI:https://www.vilatorta.cat/actualitat/agenda/sessio-informativa-sobre-la-convocatoria-dajuts-de-subministraments-energetics.html
CLASS:PUBLIC
END:VEVENT
END:VCALENDAR
