BEGIN:VCALENDAR
VERSION:2.0
CALSCALE:GREGORIAN
PRODID:-//Diputació de Barcelona//DibaCMS//EN
BEGIN:VEVENT
UID:15142
DTSTAMP:20260421T120624
DTSTART:20220422T120000
DTEND:20220424T200000
SUMMARY:Exposició "Aiguaneix" d'Anton Carrera al Temple Romà de Vic
LOCATION:Temple Romà de Vic 
METHOD:PUBLISH
X-WR-CALNAME:sjv.info@vilatorta.cat
X-WR-TIMEZONE:Europe/Madrid
DESCRIPTION:L'exposició "Aiguaneix" d'Anton Carrera es pot visitar del 19 de març al 24 d'abril al temple Romà de Vic. Horari: Matí: dimarts a dissabte d'11 a 13 h. Tarda: de dimarts a diumenge de 18 a 20 h.

URI:https://www.vilatorta.cat/actualitat/agenda/exposicio-aiguaneix-danton-carrera-al-temple-roma-de-vic.html
CLASS:PUBLIC
END:VEVENT
END:VCALENDAR
