BEGIN:VCALENDAR
VERSION:2.0
CALSCALE:GREGORIAN
PRODID:-//Diputació de Barcelona//DibaCMS//EN
BEGIN:VEVENT
UID:15155
DTSTAMP:20260421T131752
DTSTART:20220417T090000
DTEND:20220417T130000
SUMMARY:Diada de Pasqua amb les Caramelles del Roser. Diumenge 17 d'abril
LOCATION:Plaça de l'U d'octubre, núm. 1 08504 Sant Julià de Vilatorta
METHOD:PUBLISH
X-WR-CALNAME:sjv.info@vilatorta.cat
X-WR-TIMEZONE:Europe/Madrid
DESCRIPTION:D'acord amb la programació prevista, faran el tomb caramellaire a partir de les 9 del matí començant a la plaça de l'U d'octubre i seguint pel carrer de la Mercè, era d'en Buxó, av. Sant Llorenç, c. Jesús, c. del Perer, c. de n'Anna Xica, c. Montseny, c. Jesús, Pl. Major, c. del Pont, c. Rector Roca, c. de la Font, av. Sant Jordi, Av. Nostra Senyora de Montserrat, c. Núria i Pl. U d'octubre. Segueix la seva ubicació en directe a l'enllaç https://t.co/w9VwD80pum

URI:https://www.vilatorta.cat/temes/turisme-/15155-diada-de-pasqua-amb-les-caramelles-del-roser-diumenge-17-dabril.html
CLASS:PUBLIC
END:VEVENT
END:VCALENDAR
