BEGIN:VCALENDAR
VERSION:2.0
CALSCALE:GREGORIAN
PRODID:-//Diputació de Barcelona//DibaCMS//EN
BEGIN:VEVENT
UID:15156
DTSTAMP:20260421T150502
DTSTART:20220424T100000
DTEND:20220424T150000
SUMMARY:El 43è Aplec Caramellaire. Diumenge 24 d'abril
LOCATION:Plaça de l'U d'octubre, núm. 1 08504 Sant Julià de Vilatorta
METHOD:PUBLISH
X-WR-CALNAME:sjv.info@vilatorta.cat
X-WR-TIMEZONE:Europe/Madrid
DESCRIPTION:De bell nou reprenem l’Aplec Caramellaire. Les caramelles celebren el desper­tar de la primavera després del llarg hivern... Aquesta edició ha de festejar que recuperem les trobades socials havent passat dos anys de molta reclusió, restric­cions i mascaretes! Per fer-ho possible comptem amb la participació de colles que havien estat convidades i que a causa de la pandèmia no van poder venir, ja que l’Aplec es va haver de suspendre en dues ocasions.

URI:https://www.vilatorta.cat/temes/turisme-/15156-el-43e-aplec-caramellaire-diumenge-24-dabril.html
CLASS:PUBLIC
END:VEVENT
END:VCALENDAR
