BEGIN:VCALENDAR
VERSION:2.0
CALSCALE:GREGORIAN
PRODID:-//Diputació de Barcelona//DibaCMS//EN
BEGIN:VEVENT
UID:15166
DTSTAMP:20260422T094520
DTSTART:20240401T113000
DTEND:20240401T193000
SUMMARY:Aplec de Puig-l'agulla
LOCATION:Vilalleons i Santuari de Puig-l'agulla 
METHOD:PUBLISH
X-WR-CALNAME:sjv.info@vilatorta.cat
X-WR-TIMEZONE:Europe/Madrid
DESCRIPTION:El dilluns de Pasqua no us perdeu el tradicional Aplec de Puig-l’agulla. 

URI:https://www.vilatorta.cat/temes/turisme-/15166-aplec-de-puig-lagulla.html
CLASS:PUBLIC
END:VEVENT
END:VCALENDAR
