BEGIN:VCALENDAR
VERSION:2.0
CALSCALE:GREGORIAN
PRODID:-//Diputació de Barcelona//DibaCMS//EN
BEGIN:VEVENT
UID:15174
DTSTAMP:20260421T054904
DTSTART:20220424T171400
DTEND:20220424T190000
SUMMARY:El diumenge 24 d’abril a la Plaça Major de Vic, mega estelada humana 
LOCATION:Plaça Major de Vic 
METHOD:PUBLISH
X-WR-CALNAME:sjv.info@vilatorta.cat
X-WR-TIMEZONE:Europe/Madrid
DESCRIPTION:Diumenge 24 d’abril a la plaça Major de Vic, i a les 17.14 h es farà  una mega estelada humana! Organitzat des de l’ANC Vic.

URI:https://www.vilatorta.cat/temes/turisme-/el-diumenge-24-dabril-a-la-placa-major-de-vic-mega-estelada-humana-.html
CLASS:PUBLIC
END:VEVENT
END:VCALENDAR
