BEGIN:VCALENDAR
VERSION:2.0
CALSCALE:GREGORIAN
PRODID:-//Diputació de Barcelona//DibaCMS//EN
BEGIN:VEVENT
UID:15195
DTSTAMP:20260421T141538
DTSTART:20220508T181500
DTEND:20220508T190000
SUMMARY:Música per la llibertat itinerant
LOCATION:plaça de Catalunya 
METHOD:PUBLISH
X-WR-CALNAME:sjv.info@vilatorta.cat
X-WR-TIMEZONE:Europe/Madrid
DESCRIPTION:El diumenge 8 de maig, la Música per la Llibertat itinerant passa per Sant Julià de Vilatorta, a les 6 de la tarda a la plaça de Catalunya. Organitza: Música per la Llibertat.

URI:https://www.vilatorta.cat/temes/turisme-/musica-per-la-llibertat-itinerant.html
CLASS:PUBLIC
END:VEVENT
END:VCALENDAR
