BEGIN:VCALENDAR
VERSION:2.0
CALSCALE:GREGORIAN
PRODID:-//Diputació de Barcelona//DibaCMS//EN
BEGIN:VEVENT
UID:15206
DTSTAMP:20260421T124905
DTSTART:20220513T173000
DTEND:20220513T183000
SUMMARY:Espectacle de titelles per celebrar el Dia Internacional de les Famílies
LOCATION:Rambla del Castell, s/n 08504 Sant Julià de Vilatorta
METHOD:PUBLISH
X-WR-CALNAME:sjv.info@vilatorta.cat
X-WR-TIMEZONE:Europe/Madrid
DESCRIPTION:El Departament de Drets Socials celebra a Sant Julià de Vilatorta el Dia Internacional de les famílies. Ho farà amb un espectacle de titelles: "No tinc por", de la Companyia Tanaka Teatre, el divendres 13 de maig, a 2/4 de 6 de la tarda al Parc de les Set Fonts. Celebrem-lo tots junts en família!

URI:https://www.vilatorta.cat/temes/turisme-/espectacle-de-titelles-per-celebrar-el-dia-internacional-de-les-families.html
CLASS:PUBLIC
END:VEVENT
END:VCALENDAR
