BEGIN:VCALENDAR
VERSION:2.0
CALSCALE:GREGORIAN
PRODID:-//Diputació de Barcelona//DibaCMS//EN
BEGIN:VEVENT
UID:15210
DTSTAMP:20260421T142411
DTSTART:20220528T092500
DTEND:20220528T200000
SUMMARY:Vine aquest dissabte 28 de maig a gaudir del Keramik al parc de les Set Fonts 
LOCATION:Rambla del Castell, s/n 08504 Sant Julià de Vilatorta
METHOD:PUBLISH
X-WR-CALNAME:sjv.info@vilatorta.cat
X-WR-TIMEZONE:Europe/Madrid
DESCRIPTION:Has pensat alguna vegada en l’experiència de tocar el fang i crear una peça única feta per tu? Amb les teves pròpies mans? Vols viure experiències amb fang? Doncs el dissabte 28 de maig de 2022 visita KERAMIK, un taller obert on podràs conèixer les tècniques, disseny i art de la mà de ceramistes i terrissers emergents i professionals per crear les teves peces fetes amb les pròpies mans, creativitat i enginy. Consulta el programa i fes la teva reserva per participar a les activitats a l'Infovilatorta app o al correu: sjv.keramik@vilatorta.cat.

URI:https://www.vilatorta.cat/temes/turisme-/vine-aquest-dissabte-28-de-maig-a-gaudir-del-keramik-al-parc-de-les-set-fonts-.html
CLASS:PUBLIC
END:VEVENT
END:VCALENDAR
