BEGIN:VCALENDAR
VERSION:2.0
CALSCALE:GREGORIAN
PRODID:-//Diputació de Barcelona//DibaCMS//EN
BEGIN:VEVENT
UID:15213
DTSTAMP:20260421T160131
DTSTART:20220528T120000
DTEND:20220528T130000
SUMMARY:Keramik: entrega del diplomes als alumnes de l'Escola d'Art de Vic 
LOCATION:Rambla del Castell, s/n 08504 Sant Julià de Vilatorta
METHOD:PUBLISH
X-WR-CALNAME:sjv.info@vilatorta.cat
X-WR-TIMEZONE:Europe/Madrid
DESCRIPTION:A 3/4 d'11, al costat de l'estand de l'Escola d'Art de Vic, entrega del diplomes als alumnes de l'Escola d'Art de Vic que va presentar el projecte d'estand pel Keramik i lliurament del diploma a la guanyadora Maria Farré, per part del regidor de Turisme, Marc Vilarrasa.

URI:https://www.vilatorta.cat/temes/turisme-/keramik-entrega-del-diplomes-als-alumnes-de-lescola-dart-de-vic-.html
CLASS:PUBLIC
END:VEVENT
END:VCALENDAR
