BEGIN:VCALENDAR
VERSION:2.0
CALSCALE:GREGORIAN
PRODID:-//Diputació de Barcelona//DibaCMS//EN
BEGIN:VEVENT
UID:15234
DTSTAMP:20260421T125408
DTSTART:20220521T140000
DTEND:20220521T160000
SUMMARY:Celebració de la continuïtat de l'escola
LOCATION:Avinguda de Puig i Cunyer, 20 08504 Sant Julià de Vilatorta
METHOD:PUBLISH
X-WR-CALNAME:sjv.info@vilatorta.cat
X-WR-TIMEZONE:Europe/Madrid
DESCRIPTION:Com ja sabeu, el Col·legi el Roser, celebra la continuïtat de l'escola amb una jornada de portes obertes a partir de les 10 del matí i a les 2 hi haurà una arrossada. Organitzat per l'AFA del Roser.

URI:https://www.vilatorta.cat/temes/turisme-/celebracio-de-la-continuitat-de-lescola.html
CLASS:PUBLIC
END:VEVENT
END:VCALENDAR
