BEGIN:VCALENDAR
VERSION:2.0
CALSCALE:GREGORIAN
PRODID:-//Diputació de Barcelona//DibaCMS//EN
BEGIN:VEVENT
UID:15242
DTSTAMP:20260421T154115
DTSTART:20220528T110000
DTEND:20220528T140000
SUMMARY:Keramik: Contes amb fang
LOCATION:Rambla del Castell, s/n 08504 Sant Julià de Vilatorta
METHOD:PUBLISH
X-WR-CALNAME:sjv.info@vilatorta.cat
X-WR-TIMEZONE:Europe/Madrid
DESCRIPTION:De 11 a 12 i de 1 a 2, la vilatortina Tanit Salvador, us explicarà contes amb figures fetes amb fang. No us ho perdeu. No cal reserva.

URI:https://www.vilatorta.cat/temes/turisme-/keramik-contes-amb-fang.html
CLASS:PUBLIC
END:VEVENT
END:VCALENDAR
